BEGIN:VCALENDAR
VERSION:2.0
PRODID:-//Karate Victoria - ECPv4.7.4//NONSGML v1.0//EN
CALSCALE:GREGORIAN
METHOD:PUBLISH
X-WR-CALNAME:Karate Victoria
X-ORIGINAL-URL:https://karatevictoria.com.au
X-WR-CALDESC:Events for Karate Victoria
BEGIN:VEVENT
DTSTART;VALUE=DATE:20201002
DTEND;VALUE=DATE:20201005
DTSTAMP:20210301T163358
CREATED:20200122T143239Z
LAST-MODIFIED:20200122T143239Z
UID:1076-1601596800-1601855999@karatevictoria.com.au
SUMMARY:Karate1 Premier League – Moscow\, Russia
DESCRIPTION:
URL:https://karatevictoria.com.au/event/karate1-premier-league-moscow-russia-2/
CATEGORIES:WKF
END:VEVENT
END:VCALENDAR