BEGIN:VCALENDAR
VERSION:2.0
PRODID:-//Karate Victoria - ECPv4.7.4//NONSGML v1.0//EN
CALSCALE:GREGORIAN
METHOD:PUBLISH
X-WR-CALNAME:Karate Victoria
X-ORIGINAL-URL:https://karatevictoria.com.au
X-WR-CALDESC:Events for Karate Victoria
BEGIN:VEVENT
DTSTART;VALUE=DATE:20201018
DTEND;VALUE=DATE:20201019
DTSTAMP:20210301T163244
CREATED:20200122T143243Z
LAST-MODIFIED:20200122T143243Z
UID:1082-1602979200-1603065599@karatevictoria.com.au
SUMMARY:VRK Funakoshi Open - Warrnambool
DESCRIPTION:
URL:https://karatevictoria.com.au/event/vrk-funakoshi-open-warrnambool-3/
CATEGORIES:KV
END:VEVENT
END:VCALENDAR