BEGIN:VCALENDAR
VERSION:2.0
PRODID:-//Karate Victoria - ECPv4.7.4//NONSGML v1.0//EN
CALSCALE:GREGORIAN
METHOD:PUBLISH
X-WR-CALNAME:Karate Victoria
X-ORIGINAL-URL:https://karatevictoria.com.au
X-WR-CALDESC:Events for Karate Victoria
BEGIN:VEVENT
DTSTART;VALUE=DATE:20201017
DTEND;VALUE=DATE:20201018
DTSTAMP:20210301T163223
CREATED:20200122T143240Z
LAST-MODIFIED:20200122T143240Z
UID:1078-1602892800-1602979199@karatevictoria.com.au
SUMMARY:** VRC Referee Seminar – Warnambool – Venue TBC **
DESCRIPTION:
URL:https://karatevictoria.com.au/event/vrc-referee-seminar-warnambool-venue-tbc-2/
CATEGORIES:KV
END:VEVENT
END:VCALENDAR