BEGIN:VCALENDAR
VERSION:2.0
PRODID:-//Karate Victoria - ECPv4.7.4//NONSGML v1.0//EN
CALSCALE:GREGORIAN
METHOD:PUBLISH
X-WR-CALNAME:Karate Victoria
X-ORIGINAL-URL:https://karatevictoria.com.au
X-WR-CALDESC:Events for Karate Victoria
BEGIN:VEVENT
DTSTART;VALUE=DATE:20201016
DTEND;VALUE=DATE:20201019
DTSTAMP:20210301T163627
CREATED:20200122T143240Z
LAST-MODIFIED:20200122T143240Z
UID:1077-1602806400-1603065599@karatevictoria.com.au
SUMMARY:**AKF National Senior Camp\, Melbourne\, VIC**
DESCRIPTION:
URL:https://karatevictoria.com.au/event/akf-national-senior-camp-melbourne-vic-2/
CATEGORIES:AKF
END:VEVENT
END:VCALENDAR