BEGIN:VCALENDAR
VERSION:2.0
PRODID:-//Karate Victoria - ECPv4.7.4//NONSGML v1.0//EN
CALSCALE:GREGORIAN
METHOD:PUBLISH
X-WR-CALNAME:Karate Victoria
X-ORIGINAL-URL:https://karatevictoria.com.au
X-WR-CALDESC:Events for Karate Victoria
BEGIN:VEVENT
DTSTART;VALUE=DATE:20200710
DTEND;VALUE=DATE:20200713
DTSTAMP:20210301T162634
CREATED:20200122T143236Z
LAST-MODIFIED:20200122T143236Z
UID:1071-1594339200-1594598399@karatevictoria.com.au
SUMMARY:*** Australian National Championships ***
DESCRIPTION:
URL:https://karatevictoria.com.au/event/australian-national-championships-3/
CATEGORIES:AKF
END:VEVENT
END:VCALENDAR