BEGIN:VCALENDAR
VERSION:2.0
PRODID:-//Karate Victoria - ECPv4.7.4//NONSGML v1.0//EN
CALSCALE:GREGORIAN
METHOD:PUBLISH
X-WR-CALNAME:Karate Victoria
X-ORIGINAL-URL:https://karatevictoria.com.au
X-WR-CALDESC:Events for Karate Victoria
BEGIN:VEVENT
DTSTART;VALUE=DATE:20200703
DTEND;VALUE=DATE:20200706
DTSTAMP:20210301T162530
CREATED:20200122T143235Z
LAST-MODIFIED:20200122T144040Z
UID:1070-1593734400-1593993599@karatevictoria.com.au
SUMMARY:Youth League – Porec\, Croatia
DESCRIPTION:
URL:https://karatevictoria.com.au/event/youth-league-porec-croatia-2/
CATEGORIES:WKF
END:VEVENT
END:VCALENDAR