BEGIN:VCALENDAR
VERSION:2.0
PRODID:-//Karate Victoria - ECPv4.7.4//NONSGML v1.0//EN
CALSCALE:GREGORIAN
METHOD:PUBLISH
X-WR-CALNAME:Karate Victoria
X-ORIGINAL-URL:https://karatevictoria.com.au
X-WR-CALDESC:Events for Karate Victoria
BEGIN:VEVENT
DTSTART;VALUE=DATE:20200629
DTEND;VALUE=DATE:20200703
DTSTAMP:20210301T162325
CREATED:20200122T143235Z
LAST-MODIFIED:20200122T143235Z
UID:1069-1593388800-1593734399@karatevictoria.com.au
SUMMARY:WKF Youth Camp – Porec\, Croatia
DESCRIPTION:
URL:https://karatevictoria.com.au/event/wkf-youth-camp-porec-croatia-2/
CATEGORIES:WKF
END:VEVENT
END:VCALENDAR