BEGIN:VCALENDAR
VERSION:2.0
PRODID:-//Karate Victoria - ECPv4.7.4//NONSGML v1.0//EN
CALSCALE:GREGORIAN
METHOD:PUBLISH
X-WR-CALNAME:Karate Victoria
X-ORIGINAL-URL:https://karatevictoria.com.au
X-WR-CALDESC:Events for Karate Victoria
BEGIN:VEVENT
DTSTART;VALUE=DATE:20200627
DTEND;VALUE=DATE:20200628
DTSTAMP:20210301T164037
CREATED:20200122T143229Z
LAST-MODIFIED:20200122T145219Z
UID:1058-1593216000-1593302399@karatevictoria.com.au
SUMMARY:State Training – Session 15
DESCRIPTION:** KATA ** DANCESTUDIO\n\nSession 1 (8-13) 9:00-10:00\nSession 2 (14-15) - Cadet Teams - Children Teams 10:00-11:00\nSession 3 (35+) - Junior Teams - U21 Teams - Senior Teams 11:00-12:00\nSession 4 (16+) - 12:00-13:30\n** KUMITE ** COURT3\n\nSession 1 (9-11) 10:30-12:00\nSession 2 (12-13) 12:00-13:30\nSession 3 (18+) 13:30-15:30\nSession 4 (14-15) 13:30-15:30 DANCESTUDIO\n
URL:https://karatevictoria.com.au/event/state-training-session-15-2/
LOCATION:Victoria University\, Building L\, Victoria University Footscray Park Campus\, Ballarat Rd\, Footscray\, VIC\, 3011\, Australia
CATEGORIES:KV
END:VEVENT
END:VCALENDAR