BEGIN:VCALENDAR
VERSION:2.0
PRODID:-//Karate Victoria - ECPv4.7.4//NONSGML v1.0//EN
CALSCALE:GREGORIAN
METHOD:PUBLISH
X-WR-CALNAME:Karate Victoria
X-ORIGINAL-URL:https://karatevictoria.com.au
X-WR-CALDESC:Events for Karate Victoria
BEGIN:VEVENT
DTSTART;VALUE=DATE:20200619
DTEND;VALUE=DATE:20200622
DTSTAMP:20210301T164017
CREATED:20200122T143235Z
LAST-MODIFIED:20200122T143235Z
UID:1068-1592524800-1592783999@karatevictoria.com.au
SUMMARY:Karate1 Series A – Istanbul\, Turkey
DESCRIPTION:
URL:https://karatevictoria.com.au/event/karate1-series-a-istanbul-turkey-2/
CATEGORIES:WKF
END:VEVENT
BEGIN:VEVENT
DTSTART;VALUE=DATE:20200621
DTEND;VALUE=DATE:20200622
DTSTAMP:20210301T164017
CREATED:20200122T143243Z
LAST-MODIFIED:20200122T143243Z
UID:1083-1592697600-1592783999@karatevictoria.com.au
SUMMARY:VKL Shukokai Cup – Dandenong
DESCRIPTION:
URL:https://karatevictoria.com.au/event/vkl-shukokai-cup-dandenong-2/
CATEGORIES:VKL
END:VEVENT
END:VCALENDAR