BEGIN:VCALENDAR
VERSION:2.0
PRODID:-//Karate Victoria - ECPv4.7.4//NONSGML v1.0//EN
CALSCALE:GREGORIAN
METHOD:PUBLISH
X-WR-CALNAME:Karate Victoria
X-ORIGINAL-URL:https://karatevictoria.com.au
X-WR-CALDESC:Events for Karate Victoria
BEGIN:VEVENT
DTSTART;VALUE=DATE:20200612
DTEND;VALUE=DATE:20200614
DTSTAMP:20210301T163847
CREATED:20200122T143234Z
LAST-MODIFIED:20200122T143234Z
UID:1067-1591920000-1592092799@karatevictoria.com.au
SUMMARY:Senior & Cadet Junior U21 Oceania Karate Championships 2020)
DESCRIPTION:
URL:https://karatevictoria.com.au/event/senior-cadet-junior-u21-oceania-karate-championships-2020-2/
CATEGORIES:AKF
END:VEVENT
END:VCALENDAR