BEGIN:VCALENDAR
VERSION:2.0
PRODID:-//Karate Victoria - ECPv4.7.4//NONSGML v1.0//EN
CALSCALE:GREGORIAN
METHOD:PUBLISH
X-WR-CALNAME:Karate Victoria
X-ORIGINAL-URL:https://karatevictoria.com.au
X-WR-CALDESC:Events for Karate Victoria
BEGIN:VEVENT
DTSTART;VALUE=DATE:20200608
DTEND;VALUE=DATE:20200611
DTSTAMP:20210301T163823
CREATED:20200122T143233Z
LAST-MODIFIED:20200122T143233Z
UID:1066-1591574400-1591833599@karatevictoria.com.au
SUMMARY:Pacific Training Camp – Noumea\, New Caledonia
DESCRIPTION:
URL:https://karatevictoria.com.au/event/pacific-training-camp-noumea-new-caledonia-2/
CATEGORIES:AKF
END:VEVENT
END:VCALENDAR