BEGIN:VCALENDAR
VERSION:2.0
PRODID:-//Karate Victoria - ECPv4.7.4//NONSGML v1.0//EN
CALSCALE:GREGORIAN
METHOD:PUBLISH
X-WR-CALNAME:Karate Victoria
X-ORIGINAL-URL:https://karatevictoria.com.au
X-WR-CALDESC:Events for Karate Victoria
BEGIN:VEVENT
DTSTART;TZID=Australia/Melbourne:20190323T090000
DTEND;TZID=Australia/Melbourne:20190323T154500
DTSTAMP:20210301T160205
CREATED:20190122T061608Z
LAST-MODIFIED:20190122T061608Z
UID:763-1553331600-1553355900@karatevictoria.com.au
SUMMARY:Teamwear Fittings
DESCRIPTION:Teamwear fittings for new members &#8211; $100 deposit required \n
URL:https://karatevictoria.com.au/event/teamwear-fittings/
LOCATION:Victoria University\, Building L\, Victoria University Footscray Park Campus\, Ballarat Rd\, Footscray\, VIC\, 3011\, Australia
CATEGORIES:KV
END:VEVENT
END:VCALENDAR