BEGIN:VCALENDAR
VERSION:2.0
PRODID:-//Karate Victoria - ECPv4.7.4//NONSGML v1.0//EN
CALSCALE:GREGORIAN
METHOD:PUBLISH
X-WR-CALNAME:Karate Victoria
X-ORIGINAL-URL:https://karatevictoria.com.au
X-WR-CALDESC:Events for Karate Victoria
BEGIN:VEVENT
DTSTART;TZID=Australia/Melbourne:20190511T090000
DTEND;TZID=Australia/Melbourne:20190511T154500
DTSTAMP:20210301T161439
CREATED:20190122T061614Z
LAST-MODIFIED:20190122T061614Z
UID:776-1557565200-1557589500@karatevictoria.com.au
SUMMARY:State Team Selection2 *COMPULSORY*
DESCRIPTION:Kata (Cadet\, Junior\, U21\, Senior & Veterans)Kumite (Children 9 to 13 yr old) \n
URL:https://karatevictoria.com.au/event/state-team-selection2-compulsory/
LOCATION:Victoria University\, Building L\, Victoria University Footscray Park Campus\, Ballarat Rd\, Footscray\, VIC\, 3011\, Australia
CATEGORIES:KV
END:VEVENT
END:VCALENDAR