BEGIN:VCALENDAR
VERSION:2.0
PRODID:-//Karate Victoria - ECPv4.7.4//NONSGML v1.0//EN
CALSCALE:GREGORIAN
METHOD:PUBLISH
X-WR-CALNAME:Karate Victoria
X-ORIGINAL-URL:https://karatevictoria.com.au
X-WR-CALDESC:Events for Karate Victoria
BEGIN:VEVENT
DTSTART;VALUE=DATE:20190412
DTEND;VALUE=DATE:20190413
DTSTAMP:20210301T160736
CREATED:20190122T061611Z
LAST-MODIFIED:20190122T061611Z
UID:772-1555027200-1555113599@karatevictoria.com.au
SUMMARY:Oceania Senior Championship
DESCRIPTION:
URL:https://karatevictoria.com.au/event/oceania-senior-championship/
LOCATION:Whitlam Leisure Centre\, Liverpool\, NSW\, Australia
CATEGORIES:AKF
END:VEVENT
END:VCALENDAR